BEGIN:VCALENDAR
VERSION:2.0
PRODID:-//160cm - ECPv6.15.12.2//NONSGML v1.0//EN
CALSCALE:GREGORIAN
METHOD:PUBLISH
X-WR-CALNAME:160cm
X-ORIGINAL-URL:https://160cm.it
X-WR-CALDESC:Eventi per 160cm
REFRESH-INTERVAL;VALUE=DURATION:PT1H
X-Robots-Tag:noindex
X-PUBLISHED-TTL:PT1H
BEGIN:VTIMEZONE
TZID:Europe/Rome
BEGIN:DAYLIGHT
TZOFFSETFROM:+0100
TZOFFSETTO:+0200
TZNAME:CEST
DTSTART:20240331T010000
END:DAYLIGHT
BEGIN:STANDARD
TZOFFSETFROM:+0200
TZOFFSETTO:+0100
TZNAME:CET
DTSTART:20241027T010000
END:STANDARD
BEGIN:DAYLIGHT
TZOFFSETFROM:+0100
TZOFFSETTO:+0200
TZNAME:CEST
DTSTART:20250330T010000
END:DAYLIGHT
BEGIN:STANDARD
TZOFFSETFROM:+0200
TZOFFSETTO:+0100
TZNAME:CET
DTSTART:20251026T010000
END:STANDARD
BEGIN:DAYLIGHT
TZOFFSETFROM:+0100
TZOFFSETTO:+0200
TZNAME:CEST
DTSTART:20260329T010000
END:DAYLIGHT
BEGIN:STANDARD
TZOFFSETFROM:+0200
TZOFFSETTO:+0100
TZNAME:CET
DTSTART:20261025T010000
END:STANDARD
BEGIN:DAYLIGHT
TZOFFSETFROM:+0100
TZOFFSETTO:+0200
TZNAME:CEST
DTSTART:20270328T010000
END:DAYLIGHT
BEGIN:STANDARD
TZOFFSETFROM:+0200
TZOFFSETTO:+0100
TZNAME:CET
DTSTART:20271031T010000
END:STANDARD
END:VTIMEZONE
BEGIN:VEVENT
DTSTART;TZID=Europe/Rome:20250308T190000
DTEND;TZID=Europe/Rome:20250308T230000
DTSTAMP:20260421T190420
CREATED:20250204T233204Z
LAST-MODIFIED:20250322T083206Z
UID:20112-1741460400-1741474800@160cm.it
SUMMARY:Bellissima | 2025 #8MARZO TORINO
DESCRIPTION:In occasione della giornata internazionale dei diritti della donna\, sabato 8 marzo si svolgerà a Torino l’evento dedicato alle donne con la Sclerosi Multipla per promuovere e tutelare i loro diritti. \n\nUna serata esclusiva\, con il concerto del REAL VOCAL CHOIR e aperitivo conviviale. \nAppuntamento in Corso Trento 13 – scala A\, 4° piano – Torino.\nIngresso con offerta libera a partire dalle h. 18:30. Inizio evento h. 19:00 \nPrenotazione obbligatoria al seguente link 👉 CLICCA QUI PER REGISTRARTI \nTi aspettiamo!
URL:https://160cm.it/event/8-marzo-bellissima-25/
CATEGORIES:160 Voice
ATTACH;FMTTYPE=image/jpeg:https://160cm.it/wp-content/uploads/2025/02/anteprima-web-post-FB-Bellissima-25.jpg
END:VEVENT
BEGIN:VEVENT
DTSTART;TZID=Europe/Rome:20250412T103000
DTEND;TZID=Europe/Rome:20250413T180000
DTSTAMP:20260421T190420
CREATED:20250330T181408Z
LAST-MODIFIED:20250330T182334Z
UID:20141-1744453800-1744567200@160cm.it
SUMMARY:160Bike | Moncalieri | 2025
DESCRIPTION:Sabato 12 aprile torna l’appuntamento con 160Bike\, il format dell’Associazione 160CM che promuove lo sport in natura e il movimento anche per le persone con difficoltà motorie. In apertura\, alle ore 10:30\, presso lo stand dell’Associazione\, incontro e dibattito interattivo con il Centro Servizi SUISM sui benefici dell’attività fisica e sull’utilizzo della bicicletta a scopo terapeutico. Intervengono: Anna Mulasso e Luca Beratto del Dipartimento di Scienze Mediche\, Università degli Studi di Torino. A seguire\, tutti in sella con 160Bike all’interno del Parco delle Vallere. \nDomenica 13 aprile si replica con una seconda pedalata nel Parco\, partenza alle ore 14:00. Al termine del giro in bicicletta intervengono presso lo stand Eleonora Campagnoli con una testimonianza dal titolo “Lo sport come stile di vita” e Maurizio Sbarra “Biciclette reclinate\, queste sconosciute”. \nGli eventi saranno ospitati dal Festival del Cicloturismo in Piemonte\, in programma il 12-13 aprile 2025 c/o Cascina delle Vallere – Aree protette Po piemontese\, Corso Trieste 98 Moncalieri (TO). \nOgni evento del format 160Bike è un’esperienza solidale e straordinaria alla quale partecipano ciclisti occasionali\, principianti o esperti. Gli eventi sono assistiti da personale medico e da guide che forniscono anche assistenza meccanica. Entrambi gli itinerari sono accessibili\, sicuri e adatti anche ai bambini\, la distanza percorsa è di circa 12Km in piano\, con soste lungo il percorso. L’Associazione 160CM metterà a disposizione le biciclette reclinate per dare l’opportunità anche a chi ha difficoltà di equilibrio di muoversi in autonomia. \nISCRIVITI QUI \n\n\n 
URL:https://160cm.it/event/160bike-moncalieri-2025/
CATEGORIES:160 Bike
ATTACH;FMTTYPE=image/png:https://160cm.it/wp-content/uploads/2025/03/post-FB-160Bike-12-13-aprile-2025-Moncalieri_Tavola-disegno-1-copia.png
END:VEVENT
BEGIN:VEVENT
DTSTART;TZID=Europe/Rome:20251026T143000
DTEND;TZID=Europe/Rome:20251026T163000
DTSTAMP:20260421T190420
CREATED:20251009T145627Z
LAST-MODIFIED:20251020T193401Z
UID:20204-1761489000-1761496200@160cm.it
SUMMARY:160Bike | Torino | 2025
DESCRIPTION:Domenica 26 ottobre torna l’appuntamento con 160Bike\, il format dell’Associazione 160CM che promuove lo sport in natura e il movimento anche per le persone con difficoltà motorie. Condividi con noi la prospettiva del mondo visto e vissuto dall’altezza di una bici\, prenota il tuo posto\, vivi una nuova esperienza di movimento! \nPROGRAMMA \n📍Ritrovo alle ore 14:30 di fronte al Castello del Valentino – in Viale Pier Andrea Mattioli\, 39 a Torino. \nRicordati di passare dal punto di accoglienza per confermare la tua iscrizione e ritirare la pettorina. \nRientro previsto: dalle ore 16:30 \nOgni evento del format 160Bike è un’esperienza solidale e straordinaria alla quale partecipano ciclisti occasionali\, principianti o esperti. Gli eventi sono assistiti da personale medico e da guide che forniscono anche assistenza meccanica. L’itinerario è accessibile\, sicuro e adatto anche ai bambini\, la distanza percorsa è di circa 10Km in piano\, con soste lungo il percorso. L’Associazione 160CM metterà a disposizione le biciclette reclinate per dare l’opportunità anche a chi ha difficoltà di equilibrio di muoversi in autonomia. \nISCRIVITI QUI
URL:https://160cm.it/event/160bike-torino-2025/
CATEGORIES:160 Bike
ATTACH;FMTTYPE=image/jpeg:https://160cm.it/wp-content/uploads/2025/10/WhatsApp-Image-2025-10-09-at-15.37.02.jpeg
END:VEVENT
BEGIN:VEVENT
DTSTART;TZID=Europe/Rome:20251222T173000
DTEND;TZID=Europe/Rome:20251222T220000
DTSTAMP:20260421T190420
CREATED:20251215T150400Z
LAST-MODIFIED:20251217T082321Z
UID:20385-1766424600-1766440800@160cm.it
SUMMARY:Evento Natale 2025
DESCRIPTION:Cari Associati e Sostenitori\, vi invitiamo calorosamente a partecipare al nostro evento di Natale\, un momento speciale per scambiarci gli auguri e sostenere attivamente la nostra Associazione: lunedì 22 Dicembre 2025\, dalle 17:30 alle 22:00\, vi aspettiamo in Corso Trento 13 a Torino. \nDalle 17:30 sarà allestito un Mercatino Natalizio con splendidi oggetti unici\, realizzati a mano\, perfetti per i vostri ultimi regali. Ogni acquisto fa la differenza: il ricavato dell’evento sarà interamente devoluto al sostegno e al potenziamento dei servizi e delle iniziative che l’Associazione offre ai suoi associati. \nL’evento è ad accesso libero e aperto a tutte e tutti. Diffondere questa iniziativa tra i vostri contatti e amici: più siamo\, più grande sarà l’aiuto che potremo dare.\nUn caro augurio di Buone Feste\, vi aspettiamo!
URL:https://160cm.it/event/natale-2025/
CATEGORIES:Mercatino Natalizio
ATTACH;FMTTYPE=image/png:https://160cm.it/wp-content/uploads/2025/12/8e77b516-59b5-e83b-f9a3-83b4a35c7f89.png
END:VEVENT
BEGIN:VEVENT
DTSTART;TZID=Europe/Rome:20260308T190000
DTEND;TZID=Europe/Rome:20260308T223000
DTSTAMP:20260421T190420
CREATED:20260212T140903Z
LAST-MODIFIED:20260213T161322Z
UID:20468-1772996400-1773009000@160cm.it
SUMMARY:Bellissima | 2026 #8MARZO Oratorio San Filippo Neri
DESCRIPTION:In occasione della giornata internazionale dei diritti della donna\, l’8 marzo si svolgerà l’evento dedicato alle donne con Sclerosi Multipla per promuovere e tutelare i loro diritti e presentare i servizi che l’Associazione 160CM dedica alle persone con SM e ai loro caregivers. \nUna serata esclusiva\, durante la quale presenteremo i nuovi progetti del 2026 e i partner pubblici e privati con i quali stiamo costruendo una nuova prospettiva per la Sclerosi Multipla. L’evento si svolgerà nella splendida location dell’Oratorio San Filippo Neri\, in Via Maria Vittoria 5\, a Torino. \n L’ingresso è consentito a partire dalle ore 19:00 ed è riservato agli ospiti che avranno confermato la propria partecipazione utilizzando il form di iscrizione. Gli ingressi sono riservati con precedenza alle prenotazioni pervenute entro il 1° marzo\, fino ad esaurimento dei posti. \nLa partecipazione alla serata prevede un contributo di 50 euro/persona\, a titolo di donazione\, comprensivo della tessera associativa 2026 e del rinfresco\, da versare entro il 1° marzo con le seguenti modalità di pagamento: \nBONIFICO BANCARIO intestato a 160CM – IBAN: IT56G0623001001000041747526 \nIndicare nella causale: Nome\, Cognome\, Tessera 2026 + donazione Bellissima ’26. \nPrezzo riservato ai soci straordinari: 30 euro/persona.\nL’iscrizione sarà confermata al ricevimento del pagamento\, tramite mail che invieremo all’indirizzo da voi indicato sul modulo. \nVi aspettiamo!
URL:https://160cm.it/event/bellissima-2026-8marzo/
ATTACH;FMTTYPE=image/jpeg:https://160cm.it/wp-content/uploads/2026/02/bellissima.jpeg
END:VEVENT
BEGIN:VEVENT
DTSTART;TZID=Europe/Rome:20260419T140000
DTEND;TZID=Europe/Rome:20260419T160000
DTSTAMP:20260421T190420
CREATED:20260331T124334Z
LAST-MODIFIED:20260331T140728Z
UID:20526-1776607200-1776614400@160cm.it
SUMMARY:160Bike | Moncalieri | 2026
DESCRIPTION:Sabato 18 e Domenica 19 aprile\, all’interno del Festival del cicloturismo in Piemonte – Bike Experience ci sarà anche 160CM\, con uno stand dedicato. Domenica 19 aprile 2026 ci sarà anche una nuova tappa del format 160Bike. Pedala con noi in un itinerario di circa 10Km adatto a tutti\, in un clima inclusivo\, per essere Sempre in Movimento!  \nPROGRAMMA \nRitrovo Cascina delle Vallere – Aree protette Po piemontese\, Corso Trieste 98\, Moncalieri\, 10024 – presso lo stand 160CM. \n Partenza alle ore 14:00. \nRientro previsto: dalle ore 16:00. \nLa partenza su Corso Trieste\, e poi si pedalerà lungo il Fiume Po fino a Banna\, passando per Moncalieri e la campagna di Tagliaferro. 11 km di paesaggi che ti ricordano perché vale la pena alzarsi la mattina! \nPassa dall’accredito per confermare la tua iscrizione e ritirare la pettorina. Sarà gradito un contributo a titolo di donazione di 10 euro. L’evento è gratuito per i bambini con meno di 10 anni\, per i quali deve essere fatta l’iscrizione dai genitori. \nSe hai bisogno di noleggiare una ebike\, compila il campo “noleggio ebike” e indica la misura della tua altezza. Se desideri provare una trikebike (bici reclinata a 3 ruote) prenota il tuo posto compilando l’apposito campo. \nISCRIVITI QUI
URL:https://160cm.it/event/160bike-moncalieri-2026/
LOCATION:Parco delle Vallere c/o Cascina Le Vallere – Corso Trieste 98 Moncalieri (TO).
ATTACH;FMTTYPE=image/jpeg:https://160cm.it/wp-content/uploads/2026/03/160bike.jpeg
END:VEVENT
BEGIN:VEVENT
DTSTART;TZID=Europe/Rome:20260429T181500
DTEND;TZID=Europe/Rome:20260520T193000
DTSTAMP:20260421T190420
CREATED:20260421T065347Z
LAST-MODIFIED:20260421T080143Z
UID:20542-1777486500-1779305400@160cm.it
SUMMARY:Ciclo di incontri | L'impatto emotivo della Sclerosi Multipla
DESCRIPTION:La Sclerosi Multipla (SM) è una malattia che va ben oltre i sintomi fisici\, influenzando profondamente la sfera emotiva e le relazioni interpersonali. \nIl Ciclo di incontri “L’impatto emotivo della Sclerosi Multipla” si propone di esplorare l’impatto emotivo della SM\, con un focus particolare sugli aspetti socio-affettivi che emergono nelle relazioni interpersonali e familiari. \nDurante gli incontri\, esperti del settore\, psicologi e persone che convivono con la SM condivideranno le loro esperienze e conoscenze\, offrendo spunti di riflessione e strategie per affrontare le sfide emotive legate alla malattia. Saranno inoltre momenti utili per conoscere i servizi di supporto e acquisire strumenti per migliorare la qualità della vita e delle relazioni. \nGli eventi sono rivolti a persone con SM\, familiari\, amici\, operatori sanitari e a chiunque sia interessato a comprendere meglio gli aspetti emotivi e relazionali legati alla malattia. \nTutti gli incontri si svolgono presso la sede associativa in Corso Trento 13 a Torino\, dalle 18:15 alle 19:30 \nmercoledì 29|4 – Diritti e relazioni in ambito lavorativo – Avv. Alessia Ledda \nmercoledì 06|5 – Aspetti socio-affettivi nelle relazioni interpersonali e familiari – Dott.ssa Martina Borghi \nmercoledì 20|5 – La comunicazione della malattia ai figli – Dott.ssa Martina Borghi \nL’accesso è gratuito\, per partecipare è sufficiente compilare il modulo di adesione indicando gli incontri ai quali si intende partecipare. \nISCRIVITI QUI \nGli incontri sono stati co-progettati con il Centro Relazioni e Famiglie della Città di Torino.
URL:https://160cm.it/event/ciclo-incontri-l-impatto-emotivo-della-sclerosi-multipla/
CATEGORIES:160 Voice
ATTACH;FMTTYPE=image/png:https://160cm.it/wp-content/uploads/2026/04/post-FB-Ciclo-incontri-CRF-1-scaled.png
END:VEVENT
END:VCALENDAR