BEGIN:VCALENDAR
VERSION:2.0
PRODID:-//160cm - ECPv6.15.12.2//NONSGML v1.0//EN
CALSCALE:GREGORIAN
METHOD:PUBLISH
X-ORIGINAL-URL:https://160cm.it
X-WR-CALDESC:Eventi per 160cm
REFRESH-INTERVAL;VALUE=DURATION:PT1H
X-Robots-Tag:noindex
X-PUBLISHED-TTL:PT1H
BEGIN:VTIMEZONE
TZID:Europe/Rome
BEGIN:DAYLIGHT
TZOFFSETFROM:+0100
TZOFFSETTO:+0200
TZNAME:CEST
DTSTART:20230326T010000
END:DAYLIGHT
BEGIN:STANDARD
TZOFFSETFROM:+0200
TZOFFSETTO:+0100
TZNAME:CET
DTSTART:20231029T010000
END:STANDARD
BEGIN:DAYLIGHT
TZOFFSETFROM:+0100
TZOFFSETTO:+0200
TZNAME:CEST
DTSTART:20240331T010000
END:DAYLIGHT
BEGIN:STANDARD
TZOFFSETFROM:+0200
TZOFFSETTO:+0100
TZNAME:CET
DTSTART:20241027T010000
END:STANDARD
BEGIN:DAYLIGHT
TZOFFSETFROM:+0100
TZOFFSETTO:+0200
TZNAME:CEST
DTSTART:20250330T010000
END:DAYLIGHT
BEGIN:STANDARD
TZOFFSETFROM:+0200
TZOFFSETTO:+0100
TZNAME:CET
DTSTART:20251026T010000
END:STANDARD
END:VTIMEZONE
BEGIN:VEVENT
DTSTART;TZID=Europe/Rome:20241214T210000
DTEND;TZID=Europe/Rome:20241214T223000
DTSTAMP:20260421T190100
CREATED:20241108T173229Z
LAST-MODIFIED:20241112T160328Z
UID:20024-1734210000-1734215400@160cm.it
SUMMARY:160Music | Gospel Torino | 2024
DESCRIPTION:Sabato 14 dicembre 2024\, il format 160Music accoglie il Free Voices Gospel Choir nella splendida location della Parrocchia dei Santi Pietro e Paolo Apostoli\, in Largo Saluzzo\, quartiere San Salvario a Torino. \nUno spettacolo dal vivo a scopo benefico\, un’esperienza emozionante e coinvolgente che vuole “unire” e donare\, in un clima pre-natalizio\, un senso di vicinanza e comprensione a tutte le persone con Sclerosi Multipla. \nIngresso dalle ore 20:30. Inizio concerto ore 21:00. \nIl ricavato dall’evento sarà utilizzato per sostenere i progetti dedicati alle persone con Sclerosi Multipla. \nL’ingresso è riservato agli associati. \nAcquistando il biglietto (15€) si ottiene la tessera associativa 160CM – socio ordinario con validità fino al 31/12/2025 \nPer acquistare il biglietto e partecipare all’evento REGISTRATI QUI \nTi aspettiamo!
URL:https://160cm.it/event/160music-gospel-torino-2024/
CATEGORIES:160 Music
ATTACH;FMTTYPE=image/png:https://160cm.it/wp-content/uploads/2024/11/post-FB_1-160Music-14-dicembre-24-Gospel.png
END:VEVENT
END:VCALENDAR